    BEGIN:VCALENDAR
VERSION:2.0
PRODID:-//wp-events-plugin.com//7.2.3.1//EN
TZID:Europe/Vienna
X-WR-TIMEZONE:Europe/Vienna
BEGIN:VEVENT
UID:7@bridgestmk.at
DTSTART;TZID=Europe/Vienna:20220610T130000
DTEND;TZID=Europe/Vienna:20220610T200000
DTSTAMP:20220224T141723Z
URL:https://www.bridgestmk.at/events/kaffehausturnier-reigen-hartberg/
SUMMARY:Kaffehausturnier-Reigen - Hartberg
DESCRIPTION:Treffpunkt 30 min vor Turnierbeginn\nInkludiert im Nenngeld sin
 d je ein alkoholfreies Getränk pro\nSpielrunde in jedem besuchten Lokal u
 nd die Teilnahme an\neinem Essen nach Turnierende. Siegerehrung.\nStart- u
 nd Treffpunkt des Turniers werden auf der\nHomepage des BC Thermenland sp
 ätestens eine Woche vor\nTurnierbeginn bekannt gegeben.\nAnmeldung:\nGera
 ld Lackner&nbsp\; +43 664 2399946\ngerald.lackner@bridge-reise.at
END:VEVENT
BEGIN:VTIMEZONE
TZID:Europe/Vienna
X-LIC-LOCATION:Europe/Vienna
BEGIN:DAYLIGHT
DTSTART:20220327T030000
TZOFFSETFROM:+0100
TZOFFSETTO:+0200
TZNAME:CEST
END:DAYLIGHT
END:VTIMEZONE
END:VCALENDAR